Workbook

Sheet Costing 11-5-13 - LCCEA #s
A2: 41583 | B2: LCCEA October 31, 2013 Proposal Year 1 | D2: LCCEA October 31, 2013 Proposal Year 2 | F2: LCCEA October 15, 2013 Proposal Year 1 | H2: LCCEA October 15, 2013 Proposal Year 2
B3: College | D3: College | F3: LCCEA | H3: LCCEA October 15, 2013 Proposal Year 2 | J3: Note
B4: Factor | C4: $ Amount | D4: Factor | E4: $ Amount | F4: Factor | G4: $ Amount | H4: Factor | I4: $ Amount
A5: FT COLA | B5: 0.0175 | C5: =B5*'Supposal Inputs'!$B$3 -> 311500 | D5: 0.01 | E5: =D5*('Supposal Inputs'!$B$3+C5+C9) -> 184771.19 | F5: 0.0159 | G5: =F5*'Supposal Inputs'!$B$3 -> 283020 | H5: 0.0156 | I5: =H5*('Supposal Inputs'!$B$3+G5+G9) -> 285605.11
A6: PT COLA | B6: 0.0175 | C6: =B6*'Supposal Inputs'!$B$9 -> 235610.24 | D6: 0.01 | E6: =D6*('Supposal Inputs'!$B$9+C6+C10) -> 140373.21 | F6: 0.0159 | G6: =F6*'Supposal Inputs'!$B$9 -> 214068.73 | H6: 0.0156 | I6: =H6*('Supposal Inputs'!$B$9+G6+G10) -> 216601.71
A7: FT COLA Restoration | I7: ?
A8: PT COLA Restoration | I8: ?
A9: FT Step | B9: 1 | C9: =B9*'Supposal Inputs'!$B$3*'Supposal Inputs'!$C$3*'Supposal Inputs'!$D$3 -> 365619.3 | D9: 0.75 | E9: =D9*('Supposal Inputs'!$B$3+C9+C5)*'Supposal Inputs'!$C$3*'Supposal Inputs'!$E$3 -> 310845.46 | F9: 1 | G9: 225000 | H9: 1 | I9: =H9*('Supposal Inputs'!$B$3+G9+G5)*'Supposal Inputs'!$C$3*'Supposal Inputs'!$E$3 -> 410667.55 | J9: After factoring in actual 'Step Downs'
A10: PT Step | B10: 1 | C10: =B10*'Supposal Inputs'!$B$9*'Supposal Inputs'!$C$9*'Supposal Inputs'!$D$9 -> 338268.98 | D10: 1 | E10: =D10*('Supposal Inputs'!$B$9+C10+C6)*'Supposal Inputs'!$C$9*'Supposal Inputs'!$E$9 -> 330578.91 | F10: 1 | G10: 207214 | H10: 1 | I10: =H10*('Supposal Inputs'!$B$9+G10+G6)*'Supposal Inputs'!$C$9*'Supposal Inputs'!$E$9 -> 326985.27 | J10: After factoring in actual 'Step Downs'
A11: Top Step Stipend (percentage) | F11: 0 | G11: =F11*'Supposal Inputs'!$B$3*(1-'Supposal Inputs'!$D$3) -> 0 | H11: 0 | I11: =H11*('Supposal Inputs'!$B$3+G5)*(1-'Supposal Inputs'!$E$3) -> 0
A12: PT Top Step (faculty only) | F12: 0 | G12: =460*F12 -> 0 | H12: 0 | I12: =460*H12 -> 0
A13: Salary schedule add 1/2 step - FT | F13: 0.5 | G13: =('Supposal Inputs'!$B$3*'Supposal Inputs'!$C$3*(1-'Supposal Inputs'!$D$3)*F13)-C16 -> 64185.524 | I13: 0 | J13: Their error, neglected to reduce to .5; change from FY13 salary and stipend
A14: Salary schedule add 1/2 step - PT | F14: 0.5 | G14: =F14*'Supposal Inputs'!$B$9*'Supposal Inputs'!$C$9*(1-'Supposal Inputs'!$D$9) -> 83305.047 | I14: 0 | J14: Their error, neglected to reduce to .5
A15: Salary schedule 34 hour week - PT | F15: =430*0.4 -> 172 | G15: =30.25*1.0159*1.15*(8)*F15+30.25*1.0159*0.15*(24)*F15 -> 67657.315 | H15: 430 | I15: =30.25*1.0159*1.056*1.15*(8)*H15+30.25*1.0159*1.056*0.15*(24)*H15 -> 178615.31 | J15: Need actual usuage to project actual cost
A16: Stipend | B16: ='Supposal Inputs'!$B$46*(1-'Supposal Inputs'!$D$3) -> 111.70716 | C16: =B16*('Supposal Inputs'!$B$19*1.0175*0.01) -> 86754.825 | D16: ='Supposal Inputs'!$B$46*(1-'Supposal Inputs'!$E$3) -> 99.254355 | E16: =D16*('Supposal Inputs'!$B$19*1.0175*1.01*0.01) -> 77854.47 | F16: 0 | G16: =F16*('Supposal Inputs'!$B$19*1.0175*0.005) -> 0 | H16: 0 | I16: =H16*('Supposal Inputs'!$B$19*1.0175*1.01*0.005) -> 0
A17: Stipend PT Faculty | B17: ='Supposal Inputs'!$B$47*(1-'Supposal Inputs'!$D$9) -> 138.6 | C17: =B17*(('Supposal Inputs'!$B$19*1.0175*0.01)*0.6) -> 64584.32 | D17: ='Supposal Inputs'!$B$47*(1-'Supposal Inputs'!$E$9) -> 156.24 | E17: =D17*('Supposal Inputs'!$B$19*1.0175*1.01*0.01)*0.6 -> 73532.184 | F17: 0 | G17: =F17*(('Supposal Inputs'!$B$19*1.0175*0.005)*0.6) -> 0 | H17: 0 | I17: =H17*('Supposal Inputs'!$B$19*1.0175*1.01*0.005)*0.6 -> 0
A18: Noncontract days | C18: =B18*('Supposal Inputs'!$B$52+'Supposal Inputs'!$B$53) -> 0 | D18: =B18 -> 0 | E18: =C18 -> 0 | G18: =F18*('Supposal Inputs'!$B$52+'Supposal Inputs'!$B$53) -> 0 | H18: =F18 -> 0 | I18: =G18 -> 0
A19: Vacation Sell
A20: Health Insurance stipend
A21: FT faculty sick leave payout (1-month) | F21: =255*0.0666 -> 16.983 | G21: =(49.33*1.0159*1.0156*22*8)*F21 -> 152128.94 | H21: 255 | I21: 0 | J21: Assumes 1/20 usuage
A22: pt faculty sick leave payout (1-month) | F22: =430*0.0666 -> 28.638 | G22: =(30.25*1.0159*1.0156*22*8)*F22 -> 157309.29 | H22: 430 | I22: 0 | J22: Assumes 1/20 usuage
A23: OPSRP sick leave payout | F23: =20*0.0666 -> 1.332 | G23: =(12*8*10*49.33*1.0159*0.5)*F23 -> 32041.109 | H23: 20 | I23: =G23 -> 32041.109 | J23: Assumes 1/20 usuage
A24: Curriculum development rate Inc | G24: FIXED | I24: FIXED
A25: Insurance FT Faculty/Class/Manag | B25: =(5.73-3.82) -> 1.91 | C25: =B25*'Supposal Inputs'!$B$36 -> 80220 | D25: =(10-3.82)/2 -> 3.09 | E25: =D25*'Supposal Inputs'!$B$36 -> 129780 | F25: 2.88 | G25: =F25*'Supposal Inputs'!$B$36 -> 120960 | H25: 6 | I25: =H25*(0.8*'Supposal Inputs'!B36) -> 201600
A26: Insurance PT Faculty | B26: =(5.73-3.82) -> 1.91 | C26: =B26*'Supposal Inputs'!$B$37 -> 22920 | D26: =D25 -> 3.09 | E26: =D26*'Supposal Inputs'!$B$37 -> 37080 | F26: 2.88 | G26: =F26*'Supposal Inputs'!$B$37 -> 34560 | H26: 1 | I26: =G26*1.06 -> 36633.6
A27: PT family insurance increase | F27: 67%/84% | G27: ='[1]InsProp-1105'!$EP$55 -> 73167.738
A28: Retirement liability
A30: Section 125 | B30: 0 | C30: =B30*(312*'Supposal Inputs'!$B$26+101*'Supposal Inputs'!$B$27+96*'Supposal Inputs'!$B$28) -> 0 | E30: =C30 -> 0 | F30: 0 | G30: 0 | I30: =G30 -> 0
A31: Health Savings Account
A32: Early Retirement Incent. (E+1, @ 58, 7 yrs)
A33: PT Insurance 400+ Classified
A34: EAP access for hourly classified | B34: 0 | C34: 0 | D34: 0 | E34: =C34 -> 0 | F34: 0 | G34: 0 | H34: 0 | I34: =G34 -> 0
A35: Total | C35: =SUM(C5:C34) -> 1505477.7 | E35: =SUM(E5:E34) -> 1284815.4 | G35: =SUM(G5:G34) -> 1714617.7 | I35: =SUM(I5:I34) -> 1688749.6
A36: Total with OPE | C36: =SUM(C5:C20)*1.25+SUM(C25:C34) -> 1856062.1 | E36: =SUM(E5:E20)*1.25+SUM(E25:E34) -> 1564304.3 | G36: =SUM(G5:G24)*1.25+SUM(G25:G34) -> 2086100.2 | I36: =SUM(I5:I24)*1.25+SUM(I25:I34) -> 2051378.7
B38: College Proposal (1.75%/1%) 10/31/13
A39: Summary | B39: Year 1 | C39: Year 2 | D39: Biennium
A40: LCCEA | B40: =C35 -> 1505477.7 | C40: =E35+SUM(C5:C10) -> 2535814 | D40: =B40+C40 -> 4041291.6
A41: w/OPE | B41: =C36 -> 1856062.1 | C41: =E36+SUM(C5:C10)*1.25 -> 3128052.4 | D41: =B41+C41 -> 4984114.5
D42: =B42+C42 -> 0
A43: Classified | B43: 709318.12 | C43: 1310438.3 | D43: =B43+C43 -> 2019756.4
...

Sheet Bargaining Allowance
B1: Bargaining Allowance $
B2: Barg Allow | C2: Faculty | D2: Classified | E2: Mgrs | F2: Total
B3: Factor | C3: $ Amount
A4: FT COLA | B4: 0.017 | C4: =B4*'Supposal Inputs'!$B$3 -> 302600 | D4: =B4*'Supposal Inputs'!$B$4 -> 244019.99 | E4: =B4*'Supposal Inputs'!$B$5 -> 97982.458 | F4: =C4+D4+E4 -> 644602.45
A5: PT COLA | B5: 0.017 | C5: =B5*'Supposal Inputs'!$B$9 -> 228878.51 | D5: =B5*'Supposal Inputs'!$B$10 -> 40650.383 | E5: =B5*'Supposal Inputs'!$B$11 -> 2637.431 | F5: =C5+D5+E5 -> 272166.33
A6: FT COLA Restoration
A7: PT COLA Restoration
A8: FT Step | B8: 1 | C8: =B8*'Supposal Inputs'!$B$3*'Supposal Inputs'!$C$3*'Supposal Inputs'!$D$3 -> 365619.3 | D8: =B8*'Supposal Inputs'!$B$4*'Supposal Inputs'!$C$4*'Supposal Inputs'!$D$4 -> 246273.59 | E8: =B8*'Supposal Inputs'!$B$5*'Supposal Inputs'!$C$5*'Supposal Inputs'!$D$5 -> 103746.13 | F8: =C8+D8+E8 -> 715639.02
A9: PT Step | B9: 1 | C9: =B9*'Supposal Inputs'!$B$9*'Supposal Inputs'!$C$9*'Supposal Inputs'!$D$9 -> 338268.98 | D9: 0 | E9: 0 | F9: =C9+D9+E9 -> 338268.98
A10: Top Step Stipend (percentage)
A11: PT Top Step (faculty only)
A12: Salary schedule add 1/2 step - FT
A13: Salary schedule add 1/2 step - PT
A14: Salary schedule 34 hour week - PT
A15: Stipend | B15: 0 | C15: =B15*('Supposal Inputs'!$B$19*1.0175*0.01) -> 0
A16: Stipend PT Faculty | B16: 0 | C16: =B16*(('Supposal Inputs'!$B$19*1.0175*0.01)*0.6) -> 0
A17: Noncontract days | C17: =B17*('Supposal Inputs'!$B$52+'Supposal Inputs'!$B$53) -> 0
A18: Vacation Sell
A19: Health Insurance stipend
A20: FT faculty sick leave payout (1-month)
A21: pt faculty sick leave payout (1-month)
A22: OPSRP sick leave payout
A23: Curriculum development rate Inc
A24: Insurance FT Faculty/Class/Manag | B24: 7.4 | C24: =B24*'Supposal Inputs'!$B$36 -> 310800 | D24: =B24*'Supposal Inputs'!$B$38 -> 610500 | E24: =B24*'Supposal Inputs'!$B$39 -> 99900 | F24: =C24+D24+E24 -> 1021200
A25: Insurance PT Faculty | B25: 7.4 | C25: =B25*'Supposal Inputs'!$B$37 -> 88800 | F25: =C25+D25+E25 -> 88800
A26: Retirement liability
A28: Section 125 | C28: =B28*(312*'Supposal Inputs'!$B$26+101*'Supposal Inputs'!$B$27+96*'Supposal Inputs'!$B$28) -> 0
A29: Health Savings Account
A30: Early Retirement Incent. (E+1, @ 58, 7 yrs)
A31: PT Insurance 400+ Classified
A32: EAP access for hourly classified | C32: 0
A33: Total | C33: =SUM(C4:C32) -> 1634966.8 | D33: =SUM(D4:D32) -> 1141444 | E33: =SUM(E4:E32) -> 304266.02 | F33: =C33+D33+E33 -> 3080676.8
A34: Total with Direct OPE | C34: =SUM(C4:C19)*1.25+SUM(C24:C32) -> 1943808.5 | D34: =SUM(D4:D19)*1.25+SUM(D24:D32) -> 1274179.9 | E34: =SUM(E4:E19)*1.25+SUM(E24:E32) -> 355357.53 | F34: =C34+D34+E34 -> 3573346

Sheet Supposal Inputs
B1: Base Salary* | C1: Full Step Rate | D1: Y1 Step Eligibility** | E1: Y2 Step Eligibility**
A2: Full Time | H2: Faculty | I2: Classified | J2: Managers
A3: Faculty | B3: 17800000 | C3: 0.0375 | D3: =9794762/17881998 -> 0.54774427 | E3: =10696305/17881998 -> 0.59816051 | G3: Total salaries | H3: =B3+B9 -> 31263442 | I3: =B4+B10 -> 16745316 | J3: =B5+B11 -> 5918817
A4: Classified | B4: 14354117 | C4: 0.043 | D4: 0.399 | E4: 0.335 | G4: Percent of Salaries | H4: =H3/B13 -> 0.57973017 | I4: =I3/B13 -> 0.31051491 | J4: =J3/B13 -> 0.10975493
A5: Management | B5: 5763674 | C5: 0.018 | D5: 1 | E5: 1
A6: Total Full Time | B6: =SUM(B3:B5) -> 37917791
G7: Bargaining Parameter | H7: 3000000
A8: Part Time | G8: faculty portion | H8: =H7*0.58 -> 1740000
A9: Faculty | B9: =13353148+110294 -> 13463442 | C9: 0.0375 | D9: 0.67 | E9: 0.628 | G9: classified | H9: =H7*0.31 -> 930000
A10: Classified | B10: 2391199 | C10: 0.043 | D10: 0 | E10: 0 | G10: managers | H10: =H7*0.11 -> 330000
A11: Management | B11: 155143 | C11: 0.018 | D11: 0 | E11: 0
A12: Total Part Time | B12: =SUM(B9:B11) -> 16009784
A13: Total Salaries | B13: =B6+B12 -> 53927575 | G13: contracted salaries all funds except grants | H13: 0.38
A15: * Updated 6.24.13 to reflect current position list and Adopted FY14 budget | F15: Full time OPE* | G15: 0.67
A16: ** Based upon percent salary eligible for step increase by position and group. | F16: Part time OPE* | G16: 0.39
A17: Funds I & IX | F17: *Built into budget
A19: Faculty Step 13.5 | B19: 76327
A20: Top Step Lump Sum | B20: =B19*1.0175*0.005 -> 388.31361
A21: PT top step lump sum | B21: =B20*0.6 -> 232.98817
A23: EAP access | B23: =417*2.35*12 -> 11759.4
A25: FSA (125) | B25: Values | C25: Current
A26: E | B26: 150 | C26: 450 | F26: 40000
A27: E+1 | B27: 250 | C27: 850 | F27: =F26/2080 -> 19.230769
A28: Fam | B28: 300 | C28: 1100 | F28: =F27*40 -> 769.23077
F29: =F28*1.25 -> 961.53846
A30: Health Savings Acct
A31: E | B31: 500
A32: E+1 | B32: 1000
A33: Fam | B33: 1000
A35: Insurance 1% cost
A36: Faculty | B36: 42000
A37: Part time Faculty | B37: 12000
A38: Classified | B38: 82500
A39: Management | B39: 13500
B40: =SUM(B36:B39) -> 150000
A43: Head count | F43: Consumer Price Index- U
A44: Classified | B44: =315+88 -> 403 | F44: NSA
A45: Hourly classified | B45: 390 | F45: All Items
A46: Faculty | B46: 247 | F46: Average Jan-Sept 2013 Yearly | G46: 0.0156
A47: Faculty PT | B47: 420
...
